BEGIN:VCALENDAR
VERSION:2.0
PRODID:icalendar-ruby
CALSCALE:GREGORIAN
METHOD:PUBLISH
BEGIN:VEVENT
DTSTAMP:20260425T152522Z
UID:ca554f12-2991-4ab5-b5d9-fd98c35feec5
DTSTART;VALUE=DATE:20241023
DTEND;VALUE=DATE:20241023
DESCRIPTION:Park City BMX
LOCATION:6801 N Hydraulic  Park City KS 67219 USA
SUMMARY:Track Rental
URL:/site/bmx_races/568908
END:VEVENT
END:VCALENDAR
