BEGIN:VCALENDAR
VERSION:2.0
PRODID:icalendar-ruby
CALSCALE:GREGORIAN
METHOD:PUBLISH
BEGIN:VEVENT
DTSTAMP:20260425T165220Z
UID:d4e269c1-48ac-44ff-8521-f3a6a59833d5
DTSTART;VALUE=DATE:20240918
DTEND;VALUE=DATE:20240918
DESCRIPTION:Park City BMX
LOCATION:6801 N Hydraulic  Park City KS 67219 USA
SUMMARY:Track Rental
URL:/site/bmx_races/568903
END:VEVENT
END:VCALENDAR
