BEGIN:VCALENDAR
VERSION:2.0
PRODID:icalendar-ruby
CALSCALE:GREGORIAN
METHOD:PUBLISH
BEGIN:VEVENT
DTSTAMP:20260425T182952Z
UID:525c541b-f753-40b0-8a08-c13beab66e14
DTSTART;VALUE=DATE:20240831
DTEND;VALUE=DATE:20240831
DESCRIPTION:River City BMX
LOCATION:251 Ne Agness  Grants Pass OR 97526 USA
SUMMARY:Local Race Single
URL:/site/bmx_races/568717
END:VEVENT
END:VCALENDAR
