BEGIN:VCALENDAR
VERSION:2.0
PRODID:icalendar-ruby
CALSCALE:GREGORIAN
METHOD:PUBLISH
BEGIN:VEVENT
DTSTAMP:20260424T052026Z
UID:77d80bed-c575-4482-bcb9-8bdd4d9c766c
DTSTART;VALUE=DATE:20250208
DTEND;VALUE=DATE:20250209
DESCRIPTION:Oldsmar BMX Supercross
LOCATION:Oldsmar Sports Complex 3120 Tampa Road Oldsmar FL 34677 USA
SUMMARY:2025 Florida State Championship Races 7 & 8
URL:/site/bmx_races/568629
END:VEVENT
END:VCALENDAR
