BEGIN:VCALENDAR
VERSION:2.0
PRODID:icalendar-ruby
CALSCALE:GREGORIAN
METHOD:PUBLISH
BEGIN:VEVENT
DTSTAMP:20260425T110912Z
UID:d7abddbb-8a77-4f1f-9679-1c9723078bf8
DTSTART;VALUE=DATE:20241009
DTEND;VALUE=DATE:20241009
DESCRIPTION:Desert Downs BMX
LOCATION:8801 Railroad  El Paso TX 79924 USA
SUMMARY:Practice
URL:/site/bmx_races/568013
END:VEVENT
END:VCALENDAR
