BEGIN:VCALENDAR
VERSION:2.0
PRODID:icalendar-ruby
CALSCALE:GREGORIAN
METHOD:PUBLISH
BEGIN:VEVENT
DTSTAMP:20260425T200111Z
UID:c3f53fc3-d6e2-40a6-b92e-d8b7a8bbb8f8
DTSTART;VALUE=DATE:20240727
DTEND;VALUE=DATE:20240727
DESCRIPTION:River City BMX
LOCATION:251 Ne Agness  Grants Pass OR 97526 USA
SUMMARY:Local Race Single
URL:/site/bmx_races/567807
END:VEVENT
END:VCALENDAR
