BEGIN:VCALENDAR
VERSION:2.0
PRODID:icalendar-ruby
CALSCALE:GREGORIAN
METHOD:PUBLISH
BEGIN:VEVENT
DTSTAMP:20260425T215326Z
UID:b311c3e6-e739-407e-8280-0638a0a042bf
DTSTART;VALUE=DATE:20240723
DTEND;VALUE=DATE:20240723
DESCRIPTION:White Pine BMX
LOCATION:913 E 16th St  Ely NV 89301 USA
SUMMARY:Local Race Single
URL:/site/bmx_races/567716
END:VEVENT
END:VCALENDAR
