BEGIN:VCALENDAR
VERSION:2.0
PRODID:icalendar-ruby
CALSCALE:GREGORIAN
METHOD:PUBLISH
BEGIN:VEVENT
DTSTAMP:20260426T040006Z
UID:6fe80560-d66e-4900-a8ac-31b46dbe1853
DTSTART;VALUE=DATE:20241207
DTEND;VALUE=DATE:20241207
DESCRIPTION:Okeeheelee BMX
LOCATION:8145 Forest Hill Blvd  West Palm Beach FL 33413 USA
SUMMARY:Practice
URL:/site/bmx_races/567164
END:VEVENT
END:VCALENDAR
