BEGIN:VCALENDAR
VERSION:2.0
PRODID:icalendar-ruby
CALSCALE:GREGORIAN
METHOD:PUBLISH
BEGIN:VEVENT
DTSTAMP:20260425T231523Z
UID:ca5b8f95-f208-4829-b4a8-467c055db9b3
DTSTART;VALUE=DATE:20240530
DTEND;VALUE=DATE:20240530
DESCRIPTION:River City BMX
LOCATION:251 Ne Agness  Grants Pass OR 97526 USA
SUMMARY:Clinic
URL:/site/bmx_races/565614
END:VEVENT
END:VCALENDAR
