BEGIN:VCALENDAR
VERSION:2.0
PRODID:icalendar-ruby
CALSCALE:GREGORIAN
METHOD:PUBLISH
BEGIN:VEVENT
DTSTAMP:20260425T183104Z
UID:75aa9a7a-939e-4f1a-b60a-7fab1a41db5e
DTSTART;VALUE=DATE:20240521
DTEND;VALUE=DATE:20240521
DESCRIPTION:Virgin BMX
LOCATION:425 N. Kolob Rd  Virgin UT 84779 USA
SUMMARY:Local Race Single
URL:/site/bmx_races/565499
END:VEVENT
END:VCALENDAR
