BEGIN:VCALENDAR
VERSION:2.0
PRODID:icalendar-ruby
CALSCALE:GREGORIAN
METHOD:PUBLISH
BEGIN:VEVENT
DTSTAMP:20260425T231547Z
UID:87d1f664-8e71-464d-8e23-a3f08551f580
DTSTART;VALUE=DATE:20240528
DTEND;VALUE=DATE:20240528
DESCRIPTION:River City BMX
LOCATION:251 Ne Agness  Grants Pass OR 97526 USA
SUMMARY:Local Race Single
URL:/site/bmx_races/564779
END:VEVENT
END:VCALENDAR
