BEGIN:VCALENDAR
VERSION:2.0
PRODID:icalendar-ruby
CALSCALE:GREGORIAN
METHOD:PUBLISH
BEGIN:VEVENT
DTSTAMP:20260425T215326Z
UID:afbbe5db-9df5-47e4-a262-27bb6ae35fcf
DTSTART;VALUE=DATE:20240609
DTEND;VALUE=DATE:20240609
DESCRIPTION:Cowtown BMX
LOCATION:447 Haltom Rd  Ft. Worth TX 76117 USA
SUMMARY:Cowtown BMX- State Championship Qualifier DOUBLE
URL:/site/bmx_races/564774
END:VEVENT
END:VCALENDAR
