BEGIN:VCALENDAR
VERSION:2.0
PRODID:icalendar-ruby
CALSCALE:GREGORIAN
METHOD:PUBLISH
BEGIN:VEVENT
DTSTAMP:20260425T134635Z
UID:be5ae3bf-5297-4de5-a0cc-eea0ab49b08b
DTSTART;VALUE=DATE:20241112
DTEND;VALUE=DATE:20241112
DESCRIPTION:Blue Springs BMX
LOCATION:2715 Nw Park Drive  Blue Springs MO 64015 USA
SUMMARY:Practice
URL:/site/bmx_races/564708
END:VEVENT
END:VCALENDAR
