BEGIN:VCALENDAR
VERSION:2.0
PRODID:icalendar-ruby
CALSCALE:GREGORIAN
METHOD:PUBLISH
BEGIN:VEVENT
DTSTAMP:20260425T215251Z
UID:57a29675-26bf-440d-ab00-ee95ffe9f797
DTSTART;VALUE=DATE:20240725
DTEND;VALUE=DATE:20240725
DESCRIPTION:White Pine BMX
LOCATION:913 E 16th St  Ely NV 89301 USA
SUMMARY:Local Race Single
URL:/site/bmx_races/564441
END:VEVENT
END:VCALENDAR
