BEGIN:VCALENDAR
VERSION:2.0
PRODID:icalendar-ruby
CALSCALE:GREGORIAN
METHOD:PUBLISH
BEGIN:VEVENT
DTSTAMP:20260425T110835Z
UID:11571955-deb6-4665-abf6-1a281a4e1fe8
DTSTART;VALUE=DATE:20241118
DTEND;VALUE=DATE:20241118
DESCRIPTION:Reno Battleborn BMX
LOCATION:Sun Valley Gid Community Park 115 W 6th Ave Sun Valley NV 89433 US
 A
SUMMARY:Practice
URL:/site/bmx_races/563939
END:VEVENT
END:VCALENDAR
