BEGIN:VCALENDAR
VERSION:2.0
PRODID:icalendar-ruby
CALSCALE:GREGORIAN
METHOD:PUBLISH
BEGIN:VEVENT
DTSTAMP:20260425T122941Z
UID:52b656d4-4530-4112-b185-9938abd58fda
DTSTART;VALUE=DATE:20241028
DTEND;VALUE=DATE:20241028
DESCRIPTION:Reno Battleborn BMX
LOCATION:Sun Valley Gid Community Park 115 W 6th Ave Sun Valley NV 89433 US
 A
SUMMARY:Clinic
URL:/site/bmx_races/563931
END:VEVENT
END:VCALENDAR
