BEGIN:VCALENDAR
VERSION:2.0
PRODID:icalendar-ruby
CALSCALE:GREGORIAN
METHOD:PUBLISH
BEGIN:VEVENT
DTSTAMP:20260425T165246Z
UID:4b19d1e9-12f0-4a5f-9dbd-d8742bb7e5af
DTSTART;VALUE=DATE:20240715
DTEND;VALUE=DATE:20240715
DESCRIPTION:Reno Battleborn BMX
LOCATION:Sun Valley Gid Community Park 115 W 6th Ave Sun Valley NV 89433 US
 A
SUMMARY:Clinic
URL:/site/bmx_races/563887
END:VEVENT
END:VCALENDAR
