BEGIN:VCALENDAR
VERSION:2.0
PRODID:icalendar-ruby
CALSCALE:GREGORIAN
METHOD:PUBLISH
BEGIN:VEVENT
DTSTAMP:20260425T183049Z
UID:34e09ed5-d7ad-43df-8338-dbebdc26de28
DTSTART;VALUE=DATE:20240624
DTEND;VALUE=DATE:20240624
DESCRIPTION:Reno Battleborn BMX
LOCATION:Sun Valley Gid Community Park 115 W 6th Ave Sun Valley NV 89433 US
 A
SUMMARY:Clinic
URL:/site/bmx_races/563878
END:VEVENT
END:VCALENDAR
