BEGIN:VCALENDAR
VERSION:2.0
PRODID:icalendar-ruby
CALSCALE:GREGORIAN
METHOD:PUBLISH
BEGIN:VEVENT
DTSTAMP:20260425T134910Z
UID:3c212d8e-c00e-4979-8389-0d39417b6626
DTSTART;VALUE=DATE:20240711
DTEND;VALUE=DATE:20240711
DESCRIPTION:Indy Cycloplex BMX
LOCATION:3649 Cold Spring Road  Adjacent To The Major Taylor Velodrome INDI
 ANAPOLIS IN 46222 USA
SUMMARY:Local Race Single
URL:/site/bmx_races/563756
END:VEVENT
END:VCALENDAR
