BEGIN:VCALENDAR
VERSION:2.0
PRODID:icalendar-ruby
CALSCALE:GREGORIAN
METHOD:PUBLISH
BEGIN:VEVENT
DTSTAMP:20260425T122822Z
UID:9c0f3764-0077-45b5-8951-add3ba888ea2
DTSTART;VALUE=DATE:20240820
DTEND;VALUE=DATE:20240820
DESCRIPTION:Greater Victoria BMX
LOCATION:1767 Island Hwy  Victoria BC V9B 1J1 CAN
SUMMARY:Local Race Single
URL:/site/bmx_races/563639
END:VEVENT
END:VCALENDAR
