BEGIN:VCALENDAR
VERSION:2.0
PRODID:icalendar-ruby
CALSCALE:GREGORIAN
METHOD:PUBLISH
BEGIN:VEVENT
DTSTAMP:20260425T134750Z
UID:84d93761-b9af-4fe2-8faa-c3541fd44f9c
DTSTART;VALUE=DATE:20240718
DTEND;VALUE=DATE:20240718
DESCRIPTION:Greater Victoria BMX
LOCATION:1767 Island Hwy  Victoria BC V9B 1J1 CAN
SUMMARY:Practice
URL:/site/bmx_races/563625
END:VEVENT
END:VCALENDAR
