BEGIN:VCALENDAR
VERSION:2.0
PRODID:icalendar-ruby
CALSCALE:GREGORIAN
METHOD:PUBLISH
BEGIN:VEVENT
DTSTAMP:20260425T152716Z
UID:f7566411-ec2c-49cb-ab9b-611bba63787e
DTSTART;VALUE=DATE:20240627
DTEND;VALUE=DATE:20240627
DESCRIPTION:Greater Victoria BMX
LOCATION:1767 Island Hwy  Victoria BC V9B 1J1 CAN
SUMMARY:Practice
URL:/site/bmx_races/563615
END:VEVENT
END:VCALENDAR
