BEGIN:VCALENDAR
VERSION:2.0
PRODID:icalendar-ruby
CALSCALE:GREGORIAN
METHOD:PUBLISH
BEGIN:VEVENT
DTSTAMP:20260425T152630Z
UID:98ba24c0-605e-45d7-bb17-b14390c3f16b
DTSTART;VALUE=DATE:20240615
DTEND;VALUE=DATE:20240615
DESCRIPTION:Greater Victoria BMX
LOCATION:1767 Island Hwy  Victoria BC V9B 1J1 CAN
SUMMARY:Non-Riding Event
URL:/site/bmx_races/563610
END:VEVENT
END:VCALENDAR
