BEGIN:VCALENDAR
VERSION:2.0
PRODID:icalendar-ruby
CALSCALE:GREGORIAN
METHOD:PUBLISH
BEGIN:VEVENT
DTSTAMP:20260426T023241Z
UID:3384db10-467e-4f10-bf1b-1bb5ceabc748
DTSTART;VALUE=DATE:20241010
DTEND;VALUE=DATE:20241010
DESCRIPTION:Pemberton BMX
LOCATION:Cottonwood Road  Pemberton BC V0N2L1 CAN
SUMMARY:Local Race Single
URL:/site/bmx_races/563368
END:VEVENT
END:VCALENDAR
