BEGIN:VCALENDAR
VERSION:2.0
PRODID:icalendar-ruby
CALSCALE:GREGORIAN
METHOD:PUBLISH
BEGIN:VEVENT
DTSTAMP:20260426T035935Z
UID:c73aceea-e6f8-4304-942a-7d5eefec1e51
DTSTART;VALUE=DATE:20240822
DTEND;VALUE=DATE:20240822
DESCRIPTION:Pemberton BMX
LOCATION:Cottonwood Road  Pemberton BC V0N2L1 CAN
SUMMARY:Local Race Single
URL:/site/bmx_races/563361
END:VEVENT
END:VCALENDAR
