BEGIN:VCALENDAR
VERSION:2.0
PRODID:icalendar-ruby
CALSCALE:GREGORIAN
METHOD:PUBLISH
BEGIN:VEVENT
DTSTAMP:20260426T035953Z
UID:179b7453-2c2e-44c7-b1c9-597e187e7cf5
DTSTART;VALUE=DATE:20240808
DTEND;VALUE=DATE:20240808
DESCRIPTION:Pemberton BMX
LOCATION:Cottonwood Road  Pemberton BC V0N2L1 CAN
SUMMARY:Local Race Single
URL:/site/bmx_races/563359
END:VEVENT
END:VCALENDAR
