BEGIN:VCALENDAR
VERSION:2.0
PRODID:icalendar-ruby
CALSCALE:GREGORIAN
METHOD:PUBLISH
BEGIN:VEVENT
DTSTAMP:20260426T035952Z
UID:a7eebd40-ca8d-48ec-8b48-6ab534280d7c
DTSTART;VALUE=DATE:20241206
DTEND;VALUE=DATE:20241206
DESCRIPTION:Capitol City BMX
LOCATION:5001 Killingsworth Lane  Pflugerville TX 78660 USA
SUMMARY:Practice
URL:/site/bmx_races/563182
END:VEVENT
END:VCALENDAR
