BEGIN:VCALENDAR
VERSION:2.0
PRODID:icalendar-ruby
CALSCALE:GREGORIAN
METHOD:PUBLISH
BEGIN:VEVENT
DTSTAMP:20260426T023245Z
UID:062ea571-5104-416c-8238-e7768b1e6022
DTSTART;VALUE=DATE:20240823
DTEND;VALUE=DATE:20240823
DESCRIPTION:Stouffville BMX
LOCATION:3291 Stouffville Rd  Whitchurch-Stouffville ON L4A7X5 CAN
SUMMARY:Earned Double
URL:/site/bmx_races/562924
END:VEVENT
END:VCALENDAR
