BEGIN:VCALENDAR
VERSION:2.0
PRODID:icalendar-ruby
CALSCALE:GREGORIAN
METHOD:PUBLISH
BEGIN:VEVENT
DTSTAMP:20260425T183058Z
UID:6469b33a-c205-4de6-a9a1-36e145c9651c
DTSTART;VALUE=DATE:20240911
DTEND;VALUE=DATE:20240911
DESCRIPTION:CNY BMX
LOCATION:408 Pritchard Ave  Bridgewater NY 13313 USA
SUMMARY:Warnicke Single
URL:/site/bmx_races/562763
END:VEVENT
END:VCALENDAR
