BEGIN:VCALENDAR
VERSION:2.0
PRODID:icalendar-ruby
CALSCALE:GREGORIAN
METHOD:PUBLISH
BEGIN:VEVENT
DTSTAMP:20260425T202114Z
UID:c6e6cec1-63ca-4408-a2ea-10fc9ef8dd20
DTSTART;VALUE=DATE:20240817
DTEND;VALUE=DATE:20240817
DESCRIPTION:Columbia Basin BMX
LOCATION:2002 Snyder St  Richland WA 99354 USA
SUMMARY:Race for Life Double
URL:/site/bmx_races/562712
END:VEVENT
END:VCALENDAR
