BEGIN:VCALENDAR
VERSION:2.0
PRODID:icalendar-ruby
CALSCALE:GREGORIAN
METHOD:PUBLISH
BEGIN:VEVENT
DTSTAMP:20260426T005758Z
UID:f903a966-9209-4cce-a45e-14771cf6f037
DTSTART;VALUE=DATE:20241028
DTEND;VALUE=DATE:20241028
DESCRIPTION:Naples BMX
LOCATION:4701 Golden Gate Parkway  Naples FL 34116 USA
SUMMARY:Practice
URL:/site/bmx_races/562437
END:VEVENT
END:VCALENDAR
