BEGIN:VCALENDAR
VERSION:2.0
PRODID:icalendar-ruby
CALSCALE:GREGORIAN
METHOD:PUBLISH
BEGIN:VEVENT
DTSTAMP:20260426T023230Z
UID:ee12f52d-2299-4741-86d4-bdf9b188516b
DTSTART;VALUE=DATE:20241023
DTEND;VALUE=DATE:20241023
DESCRIPTION:Naples BMX
LOCATION:4701 Golden Gate Parkway  Naples FL 34116 USA
SUMMARY:Local Race Single
URL:/site/bmx_races/562436
END:VEVENT
END:VCALENDAR
