BEGIN:VCALENDAR
VERSION:2.0
PRODID:icalendar-ruby
CALSCALE:GREGORIAN
METHOD:PUBLISH
BEGIN:VEVENT
DTSTAMP:20260425T183100Z
UID:442db8ae-34b9-4ee1-9b45-56336864909b
DTSTART;VALUE=DATE:20240615
DTEND;VALUE=DATE:20240615
DESCRIPTION:Cape Coral BMX
LOCATION:1410 Sw 6th Place  Cape Coral FL 33991 USA
SUMMARY:Local Race Single
URL:/site/bmx_races/562214
END:VEVENT
END:VCALENDAR
