BEGIN:VCALENDAR
VERSION:2.0
PRODID:icalendar-ruby
CALSCALE:GREGORIAN
METHOD:PUBLISH
BEGIN:VEVENT
DTSTAMP:20260425T215327Z
UID:37a4110d-d926-4217-b71c-d4d8ee87be0b
DTSTART;VALUE=DATE:20240413
DTEND;VALUE=DATE:20240413
DESCRIPTION:Cape Coral BMX
LOCATION:1410 Sw 6th Place  Cape Coral FL 33991 USA
SUMMARY:Local Race Single
URL:/site/bmx_races/562200
END:VEVENT
END:VCALENDAR
