BEGIN:VCALENDAR
VERSION:2.0
PRODID:icalendar-ruby
CALSCALE:GREGORIAN
METHOD:PUBLISH
BEGIN:VEVENT
DTSTAMP:20260426T023259Z
UID:0e369923-9cdc-4bb9-97b8-c568716ba471
DTSTART;VALUE=DATE:20240326
DTEND;VALUE=DATE:20240326
DESCRIPTION:River City BMX
LOCATION:251 Ne Agness  Grants Pass OR 97526 USA
SUMMARY:Local Race Single
URL:/site/bmx_races/561910
END:VEVENT
END:VCALENDAR
