BEGIN:VCALENDAR
VERSION:2.0
PRODID:icalendar-ruby
CALSCALE:GREGORIAN
METHOD:PUBLISH
BEGIN:VEVENT
DTSTAMP:20260425T231650Z
UID:670b36e5-1e2f-4d25-b8d0-7ca63d794979
DTSTART;VALUE=DATE:20240319
DTEND;VALUE=DATE:20240319
DESCRIPTION:Cape Coral BMX
LOCATION:1410 Sw 6th Place  Cape Coral FL 33991 USA
SUMMARY:Local Race Single
URL:/site/bmx_races/561681
END:VEVENT
END:VCALENDAR
