BEGIN:VCALENDAR
VERSION:2.0
PRODID:icalendar-ruby
CALSCALE:GREGORIAN
METHOD:PUBLISH
BEGIN:VEVENT
DTSTAMP:20260426T040105Z
UID:81070ca6-de1c-4594-ba13-07f3113b1bed
DTSTART;VALUE=DATE:20240420
DTEND;VALUE=DATE:20240420
DESCRIPTION:Columbia Basin BMX
LOCATION:2002 Snyder St  Richland WA 99354 USA
SUMMARY:Clinic
URL:/site/bmx_races/561553
END:VEVENT
END:VCALENDAR
