BEGIN:VCALENDAR
VERSION:2.0
PRODID:icalendar-ruby
CALSCALE:GREGORIAN
METHOD:PUBLISH
BEGIN:VEVENT
DTSTAMP:20260426T005854Z
UID:28764216-353e-47f2-963e-adac108d8c4d
DTSTART;VALUE=DATE:20240402
DTEND;VALUE=DATE:20240402
DESCRIPTION:High Springs BMX
LOCATION:  High Springs FL 32028 USA
SUMMARY:Local Race Single
URL:/site/bmx_races/560389
END:VEVENT
END:VCALENDAR
