BEGIN:VCALENDAR
VERSION:2.0
PRODID:icalendar-ruby
CALSCALE:GREGORIAN
METHOD:PUBLISH
BEGIN:VEVENT
DTSTAMP:20260425T110837Z
UID:42db5c0f-c392-4c57-ba86-c035f781d2f5
DTSTART;VALUE=DATE:20240904
DTEND;VALUE=DATE:20240904
DESCRIPTION:Northern Virginia (NOVA) BMX
LOCATION:7 County Complex Court  Woodbridge VA 22192 USA
SUMMARY:Race for Life Double
URL:/site/bmx_races/559850
END:VEVENT
END:VCALENDAR
