BEGIN:VCALENDAR
VERSION:2.0
PRODID:icalendar-ruby
CALSCALE:GREGORIAN
METHOD:PUBLISH
BEGIN:VEVENT
DTSTAMP:20260426T035950Z
UID:576ca9d9-2250-41f9-9c99-fc995b64e4c6
DTSTART;VALUE=DATE:20240928
DTEND;VALUE=DATE:20240928
DESCRIPTION:Falcon BMX
LOCATION:Falcon Field 200 Westfield Road Meriden CT 06450 USA
SUMMARY:Local Race Single
URL:/site/bmx_races/559167
END:VEVENT
END:VCALENDAR
