BEGIN:VCALENDAR
VERSION:2.0
PRODID:icalendar-ruby
CALSCALE:GREGORIAN
METHOD:PUBLISH
BEGIN:VEVENT
DTSTAMP:20260425T122640Z
UID:51211d70-0fb8-4c55-8156-1ed68d679193
DTSTART;VALUE=DATE:20241014
DTEND;VALUE=DATE:20241014
DESCRIPTION:Cabot BMX
LOCATION:2351 Willie Ray Road  Cabot AR 72023 USA
SUMMARY:Practice
URL:/site/bmx_races/558182
END:VEVENT
END:VCALENDAR
