BEGIN:VCALENDAR
VERSION:2.0
PRODID:icalendar-ruby
CALSCALE:GREGORIAN
METHOD:PUBLISH
BEGIN:VEVENT
DTSTAMP:20260425T122640Z
UID:044642b4-e476-4fb7-b30d-dd6354480028
DTSTART;VALUE=DATE:20241012
DTEND;VALUE=DATE:20241012
DESCRIPTION:Cabot BMX
LOCATION:2351 Willie Ray Road  Cabot AR 72023 USA
SUMMARY:Local Race Single
URL:/site/bmx_races/558181
END:VEVENT
END:VCALENDAR
