BEGIN:VCALENDAR
VERSION:2.0
PRODID:icalendar-ruby
CALSCALE:GREGORIAN
METHOD:PUBLISH
BEGIN:VEVENT
DTSTAMP:20260425T134634Z
UID:4f68cadc-0fab-40ab-bc62-4bb10caeee66
DTSTART;VALUE=DATE:20240930
DTEND;VALUE=DATE:20240930
DESCRIPTION:Cabot BMX
LOCATION:2351 Willie Ray Road  Cabot AR 72023 USA
SUMMARY:Practice
URL:/site/bmx_races/558177
END:VEVENT
END:VCALENDAR
