BEGIN:VCALENDAR
VERSION:2.0
PRODID:icalendar-ruby
CALSCALE:GREGORIAN
METHOD:PUBLISH
BEGIN:VEVENT
DTSTAMP:20260425T110720Z
UID:0a3fdf82-3d66-4402-97fc-5adfad1f6390
DTSTART;VALUE=DATE:20241005
DTEND;VALUE=DATE:20241005
DESCRIPTION:River Valley BMX
LOCATION:7800 Riverside Rd E  Sumner WA 98360 USA
SUMMARY:Local Race Single
URL:/site/bmx_races/557491
END:VEVENT
END:VCALENDAR
