BEGIN:VCALENDAR
VERSION:2.0
PRODID:icalendar-ruby
CALSCALE:GREGORIAN
METHOD:PUBLISH
BEGIN:VEVENT
DTSTAMP:20260425T183057Z
UID:f6714a6c-14d5-4448-9021-6da8d3a52206
DTSTART;VALUE=DATE:20240619
DTEND;VALUE=DATE:20240619
DESCRIPTION:River Valley BMX
LOCATION:7800 Riverside Rd E  Sumner WA 98360 USA
SUMMARY:Local Race Single
URL:/site/bmx_races/557446
END:VEVENT
END:VCALENDAR
