BEGIN:VCALENDAR
VERSION:2.0
PRODID:icalendar-ruby
CALSCALE:GREGORIAN
METHOD:PUBLISH
BEGIN:VEVENT
DTSTAMP:20260425T215325Z
UID:b3ade7d2-6cf6-4587-a5e3-888c016f449c
DTSTART;VALUE=DATE:20240419
DTEND;VALUE=DATE:20240419
DESCRIPTION:River Valley BMX
LOCATION:7800 Riverside Rd E  Sumner WA 98360 USA
SUMMARY:Local Race Single
URL:/site/bmx_races/557426
END:VEVENT
END:VCALENDAR
