BEGIN:VCALENDAR
VERSION:2.0
PRODID:icalendar-ruby
CALSCALE:GREGORIAN
METHOD:PUBLISH
BEGIN:VEVENT
DTSTAMP:20260425T200606Z
UID:fbe9dfbf-38c1-4978-82e4-c7bacfde36f2
DTSTART;VALUE=DATE:20240710
DTEND;VALUE=DATE:20240710
DESCRIPTION:Heartland BMX
LOCATION:4801 Sw Shunga Dr  Topeka KS 66614 USA
SUMMARY:Local Race Single
URL:/site/bmx_races/557399
END:VEVENT
END:VCALENDAR
