BEGIN:VCALENDAR
VERSION:2.0
PRODID:icalendar-ruby
CALSCALE:GREGORIAN
METHOD:PUBLISH
BEGIN:VEVENT
DTSTAMP:20260426T040013Z
UID:48d486a3-d3e1-4dfb-9088-c27b096d8aa9
DTSTART;VALUE=DATE:20240717
DTEND;VALUE=DATE:20240717
DESCRIPTION:Stouffville BMX
LOCATION:3291 Stouffville Rd  Whitchurch-Stouffville ON L4A7X5 CAN
SUMMARY:Local Race Single
URL:/site/bmx_races/557194
END:VEVENT
END:VCALENDAR
