BEGIN:VCALENDAR
VERSION:2.0
PRODID:icalendar-ruby
CALSCALE:GREGORIAN
METHOD:PUBLISH
BEGIN:VEVENT
DTSTAMP:20260425T110712Z
UID:dcebd457-3a07-4fdb-877f-d6ca13860131
DTSTART;VALUE=DATE:20240818
DTEND;VALUE=DATE:20240818
DESCRIPTION:MadTown BMX
LOCATION:6996 Hickory Lane  Deforest WI 53532 USA
SUMMARY:Non-Riding Event
URL:/site/bmx_races/557145
END:VEVENT
END:VCALENDAR
