BEGIN:VCALENDAR
VERSION:2.0
PRODID:icalendar-ruby
CALSCALE:GREGORIAN
METHOD:PUBLISH
BEGIN:VEVENT
DTSTAMP:20260425T140224Z
UID:32dccae9-cafa-46f3-89e5-808a03e40abc
DTSTART;VALUE=DATE:20240617
DTEND;VALUE=DATE:20240617
DESCRIPTION:MadTown BMX
LOCATION:6996 Hickory Lane  Deforest WI 53532 USA
SUMMARY:Non-Riding Event
URL:/site/bmx_races/557138
END:VEVENT
END:VCALENDAR
